BEGIN:VCALENDAR
VERSION:2.0
PRODID:-//Bach in the Subways
 //NONSGML Events //EN
CALSCALE:GREGORIAN
X-WR-CALNAME:Bach in the Subways
BEGIN:VEVENT
CREATED:20161206T173004Z
UID:15757
DTEND:20170318T200000Z
DTSTART:20170318T190000Z
DTSTAMP:20260422T163245Z
LOCATION:Amtrak Station - GDL\, West Cerritos Avenue\, Glendale\, CA\, United States
DESCRIPTION:This would be the 3rd time members of the Strings program, and student
SUMMARY:Pasadena Conservatory of Music\, strings program
ORGANIZER:Bach in the Subways
URL;VALUE=URI:https://bachinthesubways.org/performance/pasadena-conservatory-music-strings-program/
TRANSP:OPAQUE
BEGIN:VALARM
ACTION:DISPLAY
TRIGGER;VALUE=DATE-TIME:20170318T160000Z
DESCRIPTION:Reminder for Pasadena Conservatory of Music\, strings program
END:VALARM
END:VEVENT
END:VCALENDAR
