BEGIN:VCALENDAR
VERSION:2.0
PRODID:-//Bach in the Subways
 //NONSGML Events //EN
CALSCALE:GREGORIAN
X-WR-CALNAME:Bach in the Subways
BEGIN:VEVENT
CREATED:20170209T211635Z
UID:17024
DTEND:20170321T140000Z
DTSTART:20170321T130000Z
DTSTAMP:20260425T103313Z
LOCATION:St Catherine's Cathedral Church\, Colegrave Street\, Lincoln LN5 8DW\, United Kingdom
DESCRIPTION:Selected organ works by J.S. Bach played on the historic 1856 Kirtland
SUMMARY:Dr. Marc B. Naylor
ORGANIZER:Bach in the Subways
URL;VALUE=URI:https://bachinthesubways.org/performance/dr-marc-b-naylor/
TRANSP:OPAQUE
BEGIN:VALARM
ACTION:DISPLAY
TRIGGER;VALUE=DATE-TIME:20170321T100000Z
DESCRIPTION:Reminder for Dr. Marc B. Naylor
END:VALARM
END:VEVENT
END:VCALENDAR
