BEGIN:VCALENDAR
VERSION:2.0
PRODID:-//Bach in the Subways
 //NONSGML Events //EN
CALSCALE:GREGORIAN
X-WR-CALNAME:Bach in the Subways
BEGIN:VEVENT
CREATED:20180305T182603Z
UID:20020
DTEND:20180324T190000Z
DTSTART:20180324T170000Z
DTSTAMP:20260421T085032Z
LOCATION:Grand Army Plaza\, Brooklyn\, NY\, USA
DESCRIPTION:The Brooklyn Conservatory of Music is proud to present our Suzuki Divi
SUMMARY:Brooklyn Conservatory of Music Bach-lets
ORGANIZER:Bach in the Subways
URL;VALUE=URI:https://bachinthesubways.org/performance/brooklyn-conservatory-music-bach-lets/
TRANSP:OPAQUE
BEGIN:VALARM
ACTION:DISPLAY
TRIGGER;VALUE=DATE-TIME:20180324T140000Z
DESCRIPTION:Reminder for Brooklyn Conservatory of Music Bach-lets
END:VALARM
END:VEVENT
END:VCALENDAR
