BEGIN:VCALENDAR
VERSION:2.0
PRODID:-//Bach in the Subways
 //NONSGML Events //EN
CALSCALE:GREGORIAN
X-WR-CALNAME:Bach in the Subways
BEGIN:VEVENT
CREATED:20230126T194243Z
UID:48767
DTEND:20230325T180000Z
DTSTART:20230325T174500Z
DTSTAMP:20260420T213118Z
LOCATION:Roosevelt Station\, 12th Avenue Northeast\, Seattle\, WA\, USA
DESCRIPTION:Pianist Karin McCullough performs the first and second movements of Ba
SUMMARY:Karin McCullough\, pianist
ORGANIZER:Bach in the Subways
URL;VALUE=URI:https://bachinthesubways.org/performance/karin-mccullough-pianist-2/
TRANSP:OPAQUE
BEGIN:VALARM
ACTION:DISPLAY
TRIGGER;VALUE=DATE-TIME:20230325T144500Z
DESCRIPTION:Reminder for Karin McCullough\, pianist
END:VALARM
END:VEVENT
END:VCALENDAR
