BEGIN:VCALENDAR
VERSION:2.0
PRODID:-//Bach in the Subways
 //NONSGML Events //EN
CALSCALE:GREGORIAN
X-WR-CALNAME:Bach in the Subways
BEGIN:VEVENT
CREATED:20230126T202745Z
UID:48789
DTEND:20230325T182000Z
DTSTART:20230325T180500Z
DTSTAMP:20260420T232601Z
LOCATION:Roosevelt Station\, 12th Avenue Northeast\, Seattle\, WA\, USA
DESCRIPTION:Roosevelt 11:05 11:20 Christopher Gross &amp; Karin McCullough 206-789
SUMMARY:Christopher Gross &amp\; Karin McCullough
ORGANIZER:Bach in the Subways
URL;VALUE=URI:https://bachinthesubways.org/performance/christopher-gross-karin-mccullough/
TRANSP:OPAQUE
BEGIN:VALARM
ACTION:DISPLAY
TRIGGER;VALUE=DATE-TIME:20230325T150500Z
DESCRIPTION:Reminder for Christopher Gross &amp\; Karin McCullough
END:VALARM
END:VEVENT
END:VCALENDAR
