BEGIN:VCALENDAR
VERSION:2.0
PRODID:-//Bach in the Subways
 //NONSGML Events //EN
CALSCALE:GREGORIAN
X-WR-CALNAME:Bach in the Subways
BEGIN:VEVENT
CREATED:20230127T023101Z
UID:48800
DTEND:20230325T180500Z
DTSTART:20230325T180000Z
DTSTAMP:20260420T213053Z
LOCATION:Roosevelt Station\, 12th Avenue Northeast\, Seattle\, WA\, USA
DESCRIPTION:
SUMMARY:Wendy Wang
ORGANIZER:Bach in the Subways
URL;VALUE=URI:https://bachinthesubways.org/performance/wendy-wang/
TRANSP:OPAQUE
BEGIN:VALARM
ACTION:DISPLAY
TRIGGER;VALUE=DATE-TIME:20230325T150000Z
DESCRIPTION:Reminder for Wendy Wang
END:VALARM
END:VEVENT
END:VCALENDAR
