BEGIN:VCALENDAR
VERSION:2.0
PRODID:-//Bach in the Subways
 //NONSGML Events //EN
CALSCALE:GREGORIAN
X-WR-CALNAME:Bach in the Subways
BEGIN:VEVENT
CREATED:20230206T025940Z
UID:49029
DTEND:20230325T180000Z
DTSTART:20230325T170000Z
DTSTAMP:20260420T213313Z
LOCATION:Beacon Hill\, Seattle\, WA\, USA
DESCRIPTION:students of GraceANN perform the music of Bach on piano
SUMMARY:Studio of GraceANN Cummings
ORGANIZER:Bach in the Subways
URL;VALUE=URI:https://bachinthesubways.org/performance/studio-of-graceann-cummings-2/
TRANSP:OPAQUE
BEGIN:VALARM
ACTION:DISPLAY
TRIGGER;VALUE=DATE-TIME:20230325T140000Z
DESCRIPTION:Reminder for Studio of GraceANN Cummings
END:VALARM
END:VEVENT
END:VCALENDAR
