BEGIN:VCALENDAR
VERSION:2.0
PRODID:-//Bach in the Subways
 //NONSGML Events //EN
CALSCALE:GREGORIAN
X-WR-CALNAME:Bach in the Subways
BEGIN:VEVENT
CREATED:20230228T040514Z
UID:49654
DTEND:20230326T065500Z
DTSTART:20230325T070000Z
DTSTAMP:20260420T213244Z
LOCATION:Mirabella Seattle\, Fairview Avenue North\, Seattle\, WA\, USA (virtual)
DESCRIPTION:Prerecorded from March 18, 2023 at 2pm: LMC artists Jonas Chen (cello)
SUMMARY:LMC of Seattle presents 338 years of Johann Sebastian Bach
ORGANIZER:Bach in the Subways
URL;VALUE=URI:https://bachinthesubways.org/performance/lmc-of-seattle-presents-338-years-of-johann-sebastian-bach/
TRANSP:OPAQUE
BEGIN:VALARM
ACTION:DISPLAY
TRIGGER;VALUE=DATE-TIME:20230325T040000Z
DESCRIPTION:Reminder for LMC of Seattle presents 338 years of Johann Sebastian Bach
END:VALARM
END:VEVENT
END:VCALENDAR
