BEGIN:VCALENDAR
VERSION:2.0
PRODID:-//Bach in the Subways
 //NONSGML Events //EN
CALSCALE:GREGORIAN
X-WR-CALNAME:Bach in the Subways
BEGIN:VEVENT
CREATED:20230303T030319Z
UID:49747
DTEND:20230325T174500Z
DTSTART:20230325T172000Z
DTSTAMP:20260420T213134Z
LOCATION:Roosevelt Station\, 12th Avenue Northeast\, Seattle\, WA\, USA
DESCRIPTION:Karin McCullough's Piano Studio performs the First Partita in B flat M
SUMMARY:Piano studio of Karin McCullough
ORGANIZER:Bach in the Subways
URL;VALUE=URI:https://bachinthesubways.org/performance/piano-studio-of-karin-mccullough/
TRANSP:OPAQUE
BEGIN:VALARM
ACTION:DISPLAY
TRIGGER;VALUE=DATE-TIME:20230325T142000Z
DESCRIPTION:Reminder for Piano studio of Karin McCullough
END:VALARM
END:VEVENT
END:VCALENDAR
