BEGIN:VCALENDAR
VERSION:2.0
PRODID:-//Bach in the Subways
 //NONSGML Events //EN
CALSCALE:GREGORIAN
X-WR-CALNAME:Bach in the Subways
BEGIN:VEVENT
CREATED:20230303T030430Z
UID:49759
DTEND:20230325T190000Z
DTSTART:20230325T183000Z
DTSTAMP:20260420T213420Z
LOCATION:Roosevelt Station\, 12th Avenue Northeast\, Seattle\, WA\, USA
DESCRIPTION:pianist Mark David Hensley performs English Suite No. 5 and several pr
SUMMARY:Mark David Hensley
ORGANIZER:Bach in the Subways
URL;VALUE=URI:https://bachinthesubways.org/performance/mark-david-hensley/
TRANSP:OPAQUE
BEGIN:VALARM
ACTION:DISPLAY
TRIGGER;VALUE=DATE-TIME:20230325T153000Z
DESCRIPTION:Reminder for Mark David Hensley
END:VALARM
END:VEVENT
END:VCALENDAR
