BEGIN:VCALENDAR
VERSION:2.0
PRODID:-//Bach in the Subways
 //NONSGML Events //EN
CALSCALE:GREGORIAN
X-WR-CALNAME:Bach in the Subways
BEGIN:VEVENT
CREATED:20230320T224231Z
UID:50315
DTEND:20230322T200000Z
DTSTART:20230322T190000Z
DTSTAMP:20260420T213549Z
LOCATION:University Place Town Center\, Drexler Drive\, Tacoma\, WA\, USA
DESCRIPTION:Selected movements from the Sonatas and Partitas for unaccompanied vio
SUMMARY:Karolyn Bredberg
ORGANIZER:Bach in the Subways
URL;VALUE=URI:https://bachinthesubways.org/performance/karolyn-bredberg-4/
TRANSP:OPAQUE
BEGIN:VALARM
ACTION:DISPLAY
TRIGGER;VALUE=DATE-TIME:20230322T160000Z
DESCRIPTION:Reminder for Karolyn Bredberg
END:VALARM
END:VEVENT
END:VCALENDAR
