BEGIN:VCALENDAR
VERSION:2.0
PRODID:-//Bach in the Subways
 //NONSGML Events //EN
CALSCALE:GREGORIAN
X-WR-CALNAME:Bach in the Subways
BEGIN:VEVENT
CREATED:20230325T100704Z
UID:50484
DTEND:20230325T172000Z
DTSTART:20230325T170000Z
DTSTAMP:20260420T213448Z
LOCATION:Roosevelt Station\, 12th Avenue Northeast\, Seattle\, WA\, USA
DESCRIPTION:
SUMMARY:Karin McCullough plays Bach on a Baby Grand!
ORGANIZER:Bach in the Subways
URL;VALUE=URI:https://bachinthesubways.org/performance/karin-mccullough-plays-bach-on-a-baby-grand/
TRANSP:OPAQUE
BEGIN:VALARM
ACTION:DISPLAY
TRIGGER;VALUE=DATE-TIME:20230325T140000Z
DESCRIPTION:Reminder for Karin McCullough plays Bach on a Baby Grand!
END:VALARM
END:VEVENT
END:VCALENDAR
