BEGIN:VCALENDAR
VERSION:2.0
PRODID:-//Bach in the Subways
 //NONSGML Events //EN
CALSCALE:GREGORIAN
X-WR-CALNAME:Bach in the Subways
BEGIN:VEVENT
CREATED:20230325T101450Z
UID:50495
DTEND:20230325T173000Z
DTSTART:20230325T172000Z
DTSTAMP:20260420T213436Z
LOCATION:Roosevelt Station\, 12th Avenue Northeast\, Seattle\, WA\, USA
DESCRIPTION:
SUMMARY:Karin McCullough\, pianist
ORGANIZER:Bach in the Subways
URL;VALUE=URI:https://bachinthesubways.org/performance/karin-mccullough-pianist-7/
TRANSP:OPAQUE
BEGIN:VALARM
ACTION:DISPLAY
TRIGGER;VALUE=DATE-TIME:20230325T142000Z
DESCRIPTION:Reminder for Karin McCullough\, pianist
END:VALARM
END:VEVENT
END:VCALENDAR
