BEGIN:VCALENDAR
VERSION:2.0
PRODID:-//Bach in the Subways
 //NONSGML Events //EN
CALSCALE:GREGORIAN
X-WR-CALNAME:Bach in the Subways
BEGIN:VEVENT
CREATED:20240321T141942Z
UID:55491
DTEND:20240322T010000Z
DTSTART:20240321T230000Z
DTSTAMP:20260424T160645Z
LOCATION:Downtown Berkeley BART Plaza\, Shattuck Avenue\, Berkeley\, CA\, USA
DESCRIPTION:On March 21, 2024, CBS made a short clip about Bach in the Subways, in
SUMMARY:Performers From the Junior Bach Festival
ORGANIZER:Bach in the Subways
URL;VALUE=URI:https://bachinthesubways.org/performance/performers-from-the-junior-bach-festival/
TRANSP:OPAQUE
BEGIN:VALARM
ACTION:DISPLAY
TRIGGER;VALUE=DATE-TIME:20240321T200000Z
DESCRIPTION:Reminder for Performers From the Junior Bach Festival
END:VALARM
END:VEVENT
END:VCALENDAR
