BEGIN:VCALENDAR
VERSION:2.0
PRODID:-//Bach in the Subways
 //NONSGML Events //EN
CALSCALE:GREGORIAN
X-WR-CALNAME:Bach in the Subways
BEGIN:VEVENT
CREATED:20250220T020056Z
UID:55965
DTEND:20250321T214000Z
DTSTART:20250321T210000Z
DTSTAMP:20260425T104055Z
LOCATION:Union Station\, South Canal Street\, Chicago\, IL\, USA
DESCRIPTION:Join us for a preview of polychoral splendor of Bach in the City's Ina
SUMMARY:Bach in the City (Bach in the Subway)
ORGANIZER:Bach in the Subways
URL;VALUE=URI:https://bachinthesubways.org/performance/bach-in-the-city-bach-in-the-subway/
TRANSP:OPAQUE
BEGIN:VALARM
ACTION:DISPLAY
TRIGGER;VALUE=DATE-TIME:20250321T180000Z
DESCRIPTION:Reminder for Bach in the City (Bach in the Subway)
END:VALARM
END:VEVENT
END:VCALENDAR
