BEGIN:VCALENDAR
VERSION:2.0
PRODID:-//Bach in the Subways
 //NONSGML Events //EN
CALSCALE:GREGORIAN
X-WR-CALNAME:Bach in the Subways
BEGIN:VEVENT
CREATED:20251231T232024Z
UID:59496
DTEND:20260321T230000Z
DTSTART:20260321T210000Z
DTSTAMP:20260420T041439Z
LOCATION:Northgate Station\, Northeast Northgate Way\, Seattle\, WA\, USA
DESCRIPTION:
SUMMARY:Friends of Jane Addams Music
ORGANIZER:Bach in the Subways
URL;VALUE=URI:https://bachinthesubways.org/performance/friends-of-jane-addams-music/
TRANSP:OPAQUE
BEGIN:VALARM
ACTION:DISPLAY
TRIGGER;VALUE=DATE-TIME:20260321T180000Z
DESCRIPTION:Reminder for Friends of Jane Addams Music
END:VALARM
END:VEVENT
END:VCALENDAR
