BEGIN:VCALENDAR
VERSION:2.0
PRODID:-//Bach in the Subways
 //NONSGML Events //EN
CALSCALE:GREGORIAN
X-WR-CALNAME:Bach in the Subways
BEGIN:VEVENT
CREATED:20260205T171428Z
UID:59746
DTEND:20260323T200000Z
DTSTART:20260323T190000Z
DTSTAMP:20260421T011324Z
LOCATION:Madrona\, Seattle\, WA\, USA
DESCRIPTION:
SUMMARY:Jack Singer
ORGANIZER:Bach in the Subways
URL;VALUE=URI:https://bachinthesubways.org/performance/jack-singer-2/
TRANSP:OPAQUE
BEGIN:VALARM
ACTION:DISPLAY
TRIGGER;VALUE=DATE-TIME:20260323T160000Z
DESCRIPTION:Reminder for Jack Singer
END:VALARM
END:VEVENT
END:VCALENDAR
