BEGIN:VCALENDAR
VERSION:2.0
PRODID:-//Bach in the Subways
 //NONSGML Events //EN
CALSCALE:GREGORIAN
X-WR-CALNAME:Bach in the Subways
BEGIN:VEVENT
CREATED:20260217T194725Z
UID:59956
DTEND:20260321T200000Z
DTSTART:20260321T183000Z
DTSTAMP:20260420T001537Z
LOCATION:Ambleside Gallery\, 528 South Elm Street\, Greensboro\, NC\, USA
DESCRIPTION:In celebration of Bach’s 341st birthday, Rebecca Cochran will presen
SUMMARY:Bach in the Gallery
ORGANIZER:Bach in the Subways
URL;VALUE=URI:https://bachinthesubways.org/performance/bach-in-the-gallery-5/
TRANSP:OPAQUE
BEGIN:VALARM
ACTION:DISPLAY
TRIGGER;VALUE=DATE-TIME:20260321T153000Z
DESCRIPTION:Reminder for Bach in the Gallery
END:VALARM
END:VEVENT
END:VCALENDAR
