BEGIN:VCALENDAR
VERSION:2.0
PRODID:-//Bach in the Subways
 //NONSGML Events //EN
CALSCALE:GREGORIAN
X-WR-CALNAME:Bach in the Subways
BEGIN:VEVENT
CREATED:20260219T104841Z
UID:59990
DTEND:20260321T215000Z
DTSTART:20260321T214500Z
DTSTAMP:20260420T041332Z
LOCATION:Crossroads Bellevue\, Northeast 8th Street\, Crossroads\, Bellevue\, WA\, USA
DESCRIPTION:
SUMMARY:Paul Alasagas
ORGANIZER:Bach in the Subways
URL;VALUE=URI:https://bachinthesubways.org/performance/paul-alasagas/
TRANSP:OPAQUE
BEGIN:VALARM
ACTION:DISPLAY
TRIGGER;VALUE=DATE-TIME:20260321T184500Z
DESCRIPTION:Reminder for Paul Alasagas
END:VALARM
END:VEVENT
END:VCALENDAR
