BEGIN:VCALENDAR
VERSION:2.0
PRODID:-//Bach in the Subways
 //NONSGML Events //EN
CALSCALE:GREGORIAN
X-WR-CALNAME:Bach in the Subways
BEGIN:VEVENT
CREATED:20260220T004339Z
UID:59991
DTEND:20260321T223000Z
DTSTART:20260321T221000Z
DTSTAMP:20260420T041150Z
LOCATION:Crossroads Bellevue\, Northeast 8th Street\, Crossroads\, Bellevue\, WA\, USA
DESCRIPTION:Students of Karin McCullough’s Piano Studio perform solos and duet a
SUMMARY:Karin McCullough’s  Piano Studio
ORGANIZER:Bach in the Subways
URL;VALUE=URI:https://bachinthesubways.org/performance/karin-mcculloughs-piano-studio-4/
TRANSP:OPAQUE
BEGIN:VALARM
ACTION:DISPLAY
TRIGGER;VALUE=DATE-TIME:20260321T191000Z
DESCRIPTION:Reminder for Karin McCullough’s  Piano Studio
END:VALARM
END:VEVENT
END:VCALENDAR
