BEGIN:VCALENDAR
VERSION:2.0
PRODID:-//Bach in the Subways
 //NONSGML Events //EN
CALSCALE:GREGORIAN
X-WR-CALNAME:Bach in the Subways
BEGIN:VEVENT
CREATED:20260321T184817Z
UID:60892
DTEND:20260330T000000Z
DTSTART:20260329T220000Z
DTSTAMP:20260424T141853Z
LOCATION:Rockridge BART Plaza\, Keith Avenue\, Oakland\, CA\, USA
DESCRIPTION:18 singers will perform Bach's motet, Jesu meine Freude
SUMMARY:California Bach Society
ORGANIZER:Bach in the Subways
URL;VALUE=URI:https://bachinthesubways.org/performance/california-bach-society/
TRANSP:OPAQUE
BEGIN:VALARM
ACTION:DISPLAY
TRIGGER;VALUE=DATE-TIME:20260329T190000Z
DESCRIPTION:Reminder for California Bach Society
END:VALARM
END:VEVENT
END:VCALENDAR
